BEGIN:VCALENDAR
VERSION:2.0
PRODID:-//Texas AgrAbility - ECPv6.15.20//NONSGML v1.0//EN
CALSCALE:GREGORIAN
METHOD:PUBLISH
X-WR-CALNAME:Texas AgrAbility
X-ORIGINAL-URL:https://txagrability.tamu.edu
X-WR-CALDESC:Events for Texas AgrAbility
REFRESH-INTERVAL;VALUE=DURATION:PT1H
X-Robots-Tag:noindex
X-PUBLISHED-TTL:PT1H
BEGIN:VTIMEZONE
TZID:America/Chicago
BEGIN:DAYLIGHT
TZOFFSETFROM:-0600
TZOFFSETTO:-0500
TZNAME:CDT
DTSTART:20240310T080000
END:DAYLIGHT
BEGIN:STANDARD
TZOFFSETFROM:-0500
TZOFFSETTO:-0600
TZNAME:CST
DTSTART:20241103T070000
END:STANDARD
BEGIN:DAYLIGHT
TZOFFSETFROM:-0600
TZOFFSETTO:-0500
TZNAME:CDT
DTSTART:20250309T080000
END:DAYLIGHT
BEGIN:STANDARD
TZOFFSETFROM:-0500
TZOFFSETTO:-0600
TZNAME:CST
DTSTART:20251102T070000
END:STANDARD
BEGIN:DAYLIGHT
TZOFFSETFROM:-0600
TZOFFSETTO:-0500
TZNAME:CDT
DTSTART:20260308T080000
END:DAYLIGHT
BEGIN:STANDARD
TZOFFSETFROM:-0500
TZOFFSETTO:-0600
TZNAME:CST
DTSTART:20261101T070000
END:STANDARD
END:VTIMEZONE
BEGIN:VEVENT
DTSTART;TZID=America/Chicago:20250908T083000
DTEND;TZID=America/Chicago:20250912T173000
DTSTAMP:20260425T090155
CREATED:20250722T171250Z
LAST-MODIFIED:20250722T171250Z
UID:4750-1757320200-1757698200@txagrability.tamu.edu
SUMMARY:Introduction to Production Agriculture Boot Camp
DESCRIPTION:BattleGround to Breaking Ground – Introduction to Production Agriculture Boot Camp is designed to help participants with limited agriculture experience understand Farm Safety & Food Safety\, Business Planning & Business Management\, Diversification & Marketing Strategies\, Financial & Risk Management\, Agriculture Rehabilitation & Vocational Training Opportunities for Veterans\, Land Management & Conservation Practices including Natural Resource Management\, Basic Vegetable & Row Crop Production\, Basic Livestock Production\, and Alternative & Value-Added Agriculture Enterprises.\n\n\n \n\n\nFor those interested in more information\, please click the link below to our website. You can find additional information about this workshop and the other programming offered by BattleGround to Breaking Ground.\n\n\n \n\n\nhttps://txagrability.tamu.edu/bgbg-introduction-to-production-agriculture-boot-camp/\nLocation: College Station
URL:https://txagrability.tamu.edu/event/introduction-to-production-agriculture-boot-camp-2/
LOCATION:Richard & Patsy Wallrath Building\, 1470 William D. Fitch Pkwy\, College Station\, TX\, 77845\, United States
END:VEVENT
END:VCALENDAR