BEGIN:VCALENDAR
VERSION:2.0
PRODID:-//Texas AgrAbility - ECPv6.15.20//NONSGML v1.0//EN
CALSCALE:GREGORIAN
METHOD:PUBLISH
X-WR-CALNAME:Texas AgrAbility
X-ORIGINAL-URL:https://txagrability.tamu.edu
X-WR-CALDESC:Events for Texas AgrAbility
REFRESH-INTERVAL;VALUE=DURATION:PT1H
X-Robots-Tag:noindex
X-PUBLISHED-TTL:PT1H
BEGIN:VTIMEZONE
TZID:America/Chicago
BEGIN:DAYLIGHT
TZOFFSETFROM:-0600
TZOFFSETTO:-0500
TZNAME:CDT
DTSTART:20230312T080000
END:DAYLIGHT
BEGIN:STANDARD
TZOFFSETFROM:-0500
TZOFFSETTO:-0600
TZNAME:CST
DTSTART:20231105T070000
END:STANDARD
BEGIN:DAYLIGHT
TZOFFSETFROM:-0600
TZOFFSETTO:-0500
TZNAME:CDT
DTSTART:20240310T080000
END:DAYLIGHT
BEGIN:STANDARD
TZOFFSETFROM:-0500
TZOFFSETTO:-0600
TZNAME:CST
DTSTART:20241103T070000
END:STANDARD
BEGIN:DAYLIGHT
TZOFFSETFROM:-0600
TZOFFSETTO:-0500
TZNAME:CDT
DTSTART:20250309T080000
END:DAYLIGHT
BEGIN:STANDARD
TZOFFSETFROM:-0500
TZOFFSETTO:-0600
TZNAME:CST
DTSTART:20251102T070000
END:STANDARD
END:VTIMEZONE
BEGIN:VEVENT
DTSTART;TZID=America/Chicago:20240924T120000
DTEND;TZID=America/Chicago:20240924T133000
DTSTAMP:20260425T204932
CREATED:20240822T163435Z
LAST-MODIFIED:20240822T170335Z
UID:4437-1727179200-1727184600@txagrability.tamu.edu
SUMMARY:QPR Suicide Prevention for Agricultural Communities
DESCRIPTION:Virtual 1.5 hour QPR training exploring how the unique challenges farmers face can lead to stress\, depression\, and suicide. We will also discuss examples of how to implement each QPR component as well as strategies for helping someone at risk of suicide. \nRegister for the training HERE.
URL:https://txagrability.tamu.edu/event/qpr-suicide-prevention-for-agricultural-communities-2/
LOCATION:Zoom
END:VEVENT
END:VCALENDAR