BEGIN:VCALENDAR
VERSION:2.0
PRODID:-//Texas AgrAbility - ECPv6.15.20//NONSGML v1.0//EN
CALSCALE:GREGORIAN
METHOD:PUBLISH
X-WR-CALNAME:Texas AgrAbility
X-ORIGINAL-URL:https://txagrability.tamu.edu
X-WR-CALDESC:Events for Texas AgrAbility
REFRESH-INTERVAL;VALUE=DURATION:PT1H
X-Robots-Tag:noindex
X-PUBLISHED-TTL:PT1H
BEGIN:VTIMEZONE
TZID:America/Chicago
BEGIN:DAYLIGHT
TZOFFSETFROM:-0600
TZOFFSETTO:-0500
TZNAME:CDT
DTSTART:20230312T080000
END:DAYLIGHT
BEGIN:STANDARD
TZOFFSETFROM:-0500
TZOFFSETTO:-0600
TZNAME:CST
DTSTART:20231105T070000
END:STANDARD
BEGIN:DAYLIGHT
TZOFFSETFROM:-0600
TZOFFSETTO:-0500
TZNAME:CDT
DTSTART:20240310T080000
END:DAYLIGHT
BEGIN:STANDARD
TZOFFSETFROM:-0500
TZOFFSETTO:-0600
TZNAME:CST
DTSTART:20241103T070000
END:STANDARD
BEGIN:DAYLIGHT
TZOFFSETFROM:-0600
TZOFFSETTO:-0500
TZNAME:CDT
DTSTART:20250309T080000
END:DAYLIGHT
BEGIN:STANDARD
TZOFFSETFROM:-0500
TZOFFSETTO:-0600
TZNAME:CST
DTSTART:20251102T070000
END:STANDARD
END:VTIMEZONE
BEGIN:VEVENT
DTSTART;TZID=America/Chicago:20240425T080000
DTEND;TZID=America/Chicago:20240705T170000
DTSTAMP:20260425T081205
CREATED:20240506T172317Z
LAST-MODIFIED:20240506T172317Z
UID:4400-1714032000-1720198800@txagrability.tamu.edu
SUMMARY:BGBG Bootcamp Registration OPEN
DESCRIPTION:Join us for BGBG Bootcamp!! REGISTRATION IS NOW OPEN! \nDeveloped for those with limited agriculture experience\, this event will provide participants with knowledge of essential agricultural production concepts and prepare them to create an agriculture business plan. Participants will receive education and knowledge on topics such as the basics of livestock production\, farm safety\, equipment selection\, and natural resource management\, as well as\, farm tours in multiple production areas. DEADLINE FOR APPLICATIONS IS JULY 5TH\, 2024. Visit https://na.eventscloud.com/ereg/newreg.php?eventid=796147& for more information and to register.
URL:https://txagrability.tamu.edu/event/bgbg-bootcamp-registration-open/
LOCATION:TX
CATEGORIES:BGBG
END:VEVENT
END:VCALENDAR